BEGIN:VCALENDAR
VERSION:2.0
PRODID:-//ROHQ - Regroupement des offices d&#039;habitation du Québec - ECPv6.15.16//NONSGML v1.0//EN
CALSCALE:GREGORIAN
METHOD:PUBLISH
X-ORIGINAL-URL:https://rohq.qc.ca
X-WR-CALDESC:Évènements pour ROHQ - Regroupement des offices d&#039;habitation du Québec
REFRESH-INTERVAL;VALUE=DURATION:PT1H
X-Robots-Tag:noindex
X-PUBLISHED-TTL:PT1H
BEGIN:VTIMEZONE
TZID:America/Toronto
BEGIN:DAYLIGHT
TZOFFSETFROM:-0500
TZOFFSETTO:-0400
TZNAME:EDT
DTSTART:20230312T070000
END:DAYLIGHT
BEGIN:STANDARD
TZOFFSETFROM:-0400
TZOFFSETTO:-0500
TZNAME:EST
DTSTART:20231105T060000
END:STANDARD
BEGIN:DAYLIGHT
TZOFFSETFROM:-0500
TZOFFSETTO:-0400
TZNAME:EDT
DTSTART:20240310T070000
END:DAYLIGHT
BEGIN:STANDARD
TZOFFSETFROM:-0400
TZOFFSETTO:-0500
TZNAME:EST
DTSTART:20241103T060000
END:STANDARD
BEGIN:DAYLIGHT
TZOFFSETFROM:-0500
TZOFFSETTO:-0400
TZNAME:EDT
DTSTART:20250309T070000
END:DAYLIGHT
BEGIN:STANDARD
TZOFFSETFROM:-0400
TZOFFSETTO:-0500
TZNAME:EST
DTSTART:20251102T060000
END:STANDARD
END:VTIMEZONE
BEGIN:VEVENT
DTSTART;VALUE=DATE:20241111
DTEND;VALUE=DATE:20241113
DTSTAMP:20260419T192716
CREATED:20240725T184257Z
LAST-MODIFIED:20241213T143652Z
UID:10000110-1731283200-1731455999@rohq.qc.ca
SUMMARY:56e conférence Réseau Habitat et Francophonie à Québec
DESCRIPTION:À l’hôtel Manoir Victoria. La Société d’habitation du Québec (SHQ) sera l’organisation d’accueil de cet événement. Consulter le programme en cliquant sur le titre de cet article. \n 
URL:https://rohq.qc.ca/event/56e-conference-reseau-habitat-et-francophonie-a-quebec/
LOCATION:Hôtel Manoir Victoria\, 44\, Côte du Palais\, Québec\, Québec\, G1R 4H8\, Canada
CATEGORIES:Évènement,Formation
END:VEVENT
END:VCALENDAR