BEGIN:VCALENDAR
VERSION:2.0
PRODID:-//ROHQ - Regroupement des offices d&#039;habitation du Québec - ECPv6.15.16//NONSGML v1.0//EN
CALSCALE:GREGORIAN
METHOD:PUBLISH
X-ORIGINAL-URL:https://rohq.qc.ca
X-WR-CALDESC:Évènements pour ROHQ - Regroupement des offices d&#039;habitation du Québec
REFRESH-INTERVAL;VALUE=DURATION:PT1H
X-Robots-Tag:noindex
X-PUBLISHED-TTL:PT1H
BEGIN:VTIMEZONE
TZID:America/Toronto
BEGIN:DAYLIGHT
TZOFFSETFROM:-0500
TZOFFSETTO:-0400
TZNAME:EDT
DTSTART:20220313T070000
END:DAYLIGHT
BEGIN:STANDARD
TZOFFSETFROM:-0400
TZOFFSETTO:-0500
TZNAME:EST
DTSTART:20221106T060000
END:STANDARD
BEGIN:DAYLIGHT
TZOFFSETFROM:-0500
TZOFFSETTO:-0400
TZNAME:EDT
DTSTART:20230312T070000
END:DAYLIGHT
BEGIN:STANDARD
TZOFFSETFROM:-0400
TZOFFSETTO:-0500
TZNAME:EST
DTSTART:20231105T060000
END:STANDARD
BEGIN:DAYLIGHT
TZOFFSETFROM:-0500
TZOFFSETTO:-0400
TZNAME:EDT
DTSTART:20240310T070000
END:DAYLIGHT
BEGIN:STANDARD
TZOFFSETFROM:-0400
TZOFFSETTO:-0500
TZNAME:EST
DTSTART:20241103T060000
END:STANDARD
BEGIN:DAYLIGHT
TZOFFSETFROM:-0500
TZOFFSETTO:-0400
TZNAME:EDT
DTSTART:20250309T070000
END:DAYLIGHT
BEGIN:STANDARD
TZOFFSETFROM:-0400
TZOFFSETTO:-0500
TZNAME:EST
DTSTART:20251102T060000
END:STANDARD
BEGIN:DAYLIGHT
TZOFFSETFROM:-0500
TZOFFSETTO:-0400
TZNAME:EDT
DTSTART:20260308T070000
END:DAYLIGHT
BEGIN:STANDARD
TZOFFSETFROM:-0400
TZOFFSETTO:-0500
TZNAME:EST
DTSTART:20261101T060000
END:STANDARD
END:VTIMEZONE
BEGIN:VEVENT
DTSTART;TZID=America/Toronto:20251203T113000
DTEND;TZID=America/Toronto:20251203T130000
DTSTAMP:20260419T190014
CREATED:20251006T195320Z
LAST-MODIFIED:20251006T205414Z
UID:10000144-1764761400-1764766800@rohq.qc.ca
SUMMARY:Formation | RCREOMHQ : formation pour les administrateurs du régime
DESCRIPTION:En réponse aux besoins d’information exprimés par le personnel responsable de la gestion du Régime de retraite dans les offices d’habitation\, le comité du RCREOMHQ a l’immense plaisir de vous inviter à participer à un webinaire le 3 décembre 2025 de 11h30 à 13h00. \nLors de ce webinaire les participants en apprendront davantage sur les points suivants : \n\nLa gestion de l’adhésion d’un participant\nLa remise des cotisations\nLa terminaison au Régime d’un participant\nLe changement de numéro de l’employé (NAS)\nL’accès au site du promoteur\nLa gestion administrative pour les regroupements de offices d’habitation\nLe soutien Manuvie\n\nFormatrice: \nHelia Freire\, Directrice principale\, relations clients\, Manuvie \nFormat: Virtuel
URL:https://rohq.qc.ca/event/formation-rcreomhq-formation-pour-les-administrateurs-du-regime/
LOCATION:En mode virtuel
CATEGORIES:Formation
END:VEVENT
BEGIN:VEVENT
DTSTART;TZID=America/Toronto:20251127T090000
DTEND;TZID=America/Toronto:20251127T120000
DTSTAMP:20260419T190014
CREATED:20250214T171717Z
LAST-MODIFIED:20251007T134310Z
UID:10000119-1764234000-1764244800@rohq.qc.ca
SUMMARY:Webinaire | Information sur le Régime complémentaire de retraite des employés des offices municipaux d’habitation du Québec (RCREOMHQ)
DESCRIPTION:Ce webinaire s’adresse spécifiquement aux nouveaux adhérents au Régime de retraite. \nQue vous soyez sur le point de prendre votre retraite ou que vous ayez encore quelques années devant vous\, l’une des choses les plus judicieuses – et les plus simples – à faire est d’apprendre à tirer pleinement parti du programme d’épargne-retraite collectif. Soyez des nôtres pour un webinaire exclusif où vous découvrirez les avantages de votre programme collectif et comment y adhérer. \nAu cours du webinaire\, nous passerons en revue ce qui suit : \n\nEn savoir plus sur votre régime collectif\nL’importance de la planification de la retraite\nComment fixer votre objectif de retraite\nLes différentes sources et options de revenus à la retraite\nLe choix des fonds\nAdhérez au régime\nLes ressources de Manuvie\n\nFormateur: \nMaxime Lévesque\, MBA\, PL.\, Fin. spécialiste en formation financière chez Manuvie \nFormat: Virtuel
URL:https://rohq.qc.ca/event/information-sur-le-regime-complementaire-de-retraite-des-employes-des-offices-municipaux-dhabitation-du-quebec/
LOCATION:En mode virtuel
CATEGORIES:Formation
END:VEVENT
BEGIN:VEVENT
DTSTART;TZID=America/Toronto:20250605T120000
DTEND;TZID=America/Toronto:20250605T130000
DTSTAMP:20260419T190014
CREATED:20250521T174756Z
LAST-MODIFIED:20250521T174756Z
UID:10000122-1749124800-1749128400@rohq.qc.ca
SUMMARY:Assemblée générale du RCREOMHQ
DESCRIPTION:Un événement adressé aux participants au régime complémentaire de retraite d’employés des offices municipaux d’habitation du Québec (RCREOMHQ). En guise de vigie\, l’assemblée générale du RCREOMHQ assure un suivi sur l’état financier et propose à ces participants d’en apprendre davantage sur leur régime de retraite. \nL’AGA du RCREOMHQ se tiendra le mercredi 5 juin 2025 en mode virtuel.
URL:https://rohq.qc.ca/event/assemblee-generale-du-rcreomhq/
LOCATION:En mode virtuel
CATEGORIES:Évènement,Formation
END:VEVENT
BEGIN:VEVENT
DTSTART;TZID=America/Toronto:20250604T110000
DTEND;TZID=America/Toronto:20250604T123000
DTSTAMP:20260419T190014
CREATED:20250521T173718Z
LAST-MODIFIED:20250521T173718Z
UID:10000121-1749034800-1749040200@rohq.qc.ca
SUMMARY:WEBINAIRE  Tout savoir sur votre programme  d’épargne-retraite collectif du RCREOMHQ
DESCRIPTION:Le comité de retraite du RCREOMHQ a l’immense plaisir de vous inviter à participer à une séance d’information sur les avantages d’adhérer au régime de retraite des offices d’habitation. \nQue vous soyez sur le point de prendre votre retraite ou que vous ayez encore quelques années devant vous\, l’une des choses les plus judicieuses – et les plus simples – à faire est d’apprendre à tirer pleinement parti du programme d’épargne-retraite collectif. \nAu cours du webinaire\, nous passerons en revue ce qui suit : \n\nEn savoir plus sur votre régime collectif\nL’importance de la planification de la retraite\nComment fixer votre objectif de retraite\nLes différentes sources et options de revenus à la retraite\nLe choix des fonds\nAdhérez au régime\nLes ressources de Manuvie
URL:https://rohq.qc.ca/event/webinaire-tout-savoir-sur-votre-programme-depargne-retraite-collectif-du-rcreomhq/
LOCATION:En mode virtuel
CATEGORIES:Évènement,Formation
END:VEVENT
BEGIN:VEVENT
DTSTART;TZID=America/Toronto:20250327T090000
DTEND;TZID=America/Toronto:20250327T110000
DTSTAMP:20260419T190014
CREATED:20250214T172047Z
LAST-MODIFIED:20250307T201928Z
UID:10000120-1743066000-1743073200@rohq.qc.ca
SUMMARY:Comment préparer un dossier au tribunal administratif du logement
DESCRIPTION:Le ROHQ organise une formation afin de répondre aux besoins exprimés par les membres et relatifs à l’application de bonnes pratiques lors de la préparation d’un dossier au Tribunal administratif du logement (TAL). \nCette formation répondra aux objectifs suivants : \n\nConnaître les principes de notification et les procédures;\nRédiger une demande et préparer le dossier en vue d’une audition;\nSavoir quels sont les documents à déposer au TAL;\nBien connaître les principaux formulaires du TAL;\nSavoir quelles sont les pièces au soutien de la demande;\nÊtre documenté sur les procédures reliées aux témoignages et aux citations à comparaître;\nÊtre informé sur les actions à prendre après un jugement.\n\nConférencier : Me Marc-Étienne Lauzon-Joset\, conseiller principal aux affaires juridiques du ROHQ
URL:https://rohq.qc.ca/event/comment-preparer-un-dossier-au-tribunal-administratif-du-logement/
LOCATION:En mode virtuel
CATEGORIES:Formation
END:VEVENT
BEGIN:VEVENT
DTSTART;TZID=America/Toronto:20250319T110000
DTEND;TZID=America/Toronto:20250319T123000
DTSTAMP:20260419T190014
CREATED:20250203T141859Z
LAST-MODIFIED:20250307T201400Z
UID:10000117-1742382000-1742387400@rohq.qc.ca
SUMMARY:Régime complémentaire de retraite des employés des offices municipaux d'habitation du Québec: formation pour les administrateurs du régime
DESCRIPTION:En réponse aux besoins d’information exprimés par le personnel responsable de la gestion du Régime de retraite dans les offices d’habitation\, le comité du RCREOMHQ a l’immense plaisir de vous inviter à participer à un webinaire le 19 mars 2025 de 11h00 à 12h30. \nLors de ce webinaire les participants en apprendront davantage sur les points suivants : \n\nLa gestion de l’adhésion d’un participant\nLa remise des cotisations\nLa terminaison au Régime d’un participant\nLe changement de numéro de l’employé (NAS)\nL’accès au site du promoteur\nLa gestion administrative pour les regroupements de offices d’habitation\nLe soutien Manuvie\n\nFormatrice: \nHelia Freire\, Directrice principale\, relations clients\, Manuvie \nFormat: Virtuel
URL:https://rohq.qc.ca/event/regime-complementaire-de-retraite-des-employes-des-offices-municipaux-dhabitation-du-quebec-formation-pour-les-administrateurs-du-regime/
LOCATION:En mode virtuel
CATEGORIES:Formation
END:VEVENT
BEGIN:VEVENT
DTSTART;TZID=America/Toronto:20250127T000000
DTEND;TZID=America/Toronto:20250131T000000
DTSTAMP:20260419T190014
CREATED:20241007T180045Z
LAST-MODIFIED:20241213T143639Z
UID:10000115-1737936000-1738281600@rohq.qc.ca
SUMMARY:Comment préparer un dossier pour le Tribunal administratif du logement (TAL)
DESCRIPTION:Date à déterminer en janvier 2025
URL:https://rohq.qc.ca/event/comment-preparer-un-dossier-pour-le-tribunal-administratif-du-logement-tal-4/
LOCATION:En mode virtuel
CATEGORIES:Formation
END:VEVENT
BEGIN:VEVENT
DTSTART;TZID=America/Toronto:20241107T090000
DTEND;TZID=America/Toronto:20241107T110000
DTSTAMP:20260419T190014
CREATED:20240606T151815Z
LAST-MODIFIED:20241213T143653Z
UID:10000107-1730970000-1730977200@rohq.qc.ca
SUMMARY:Comment préparer un dossier pour le Tribunal administratif du logement (TAL)
DESCRIPTION:
URL:https://rohq.qc.ca/event/comment-preparer-un-dossier-pour-le-tribunal-administratif-du-logement-tal-2/
LOCATION:En mode virtuel
CATEGORIES:Formation
END:VEVENT
BEGIN:VEVENT
DTSTART;TZID=America/Toronto:20240926T090000
DTEND;TZID=America/Toronto:20240926T110000
DTSTAMP:20260419T190014
CREATED:20240606T151853Z
LAST-MODIFIED:20241213T143656Z
UID:10000091-1727341200-1727348400@rohq.qc.ca
SUMMARY:Webinaire sur la Loi 25: ce que les offices d'habitation doivent savoir sur la protection des renseignements personnels
DESCRIPTION:Quand : 26 septembre 2024 de 9h à 11h \nPrésenté sur la plateforme Teams \nPour qui ? Dirigeant\, personne désignée responsable de la protection des renseignements personnels au sein d’un office d’habitation. \nCette formation répondra\, entre autres\, aux questions suivantes : \nQuelles sont les modifications apportées par la Loi 25 ? \nQui est chargé d’appliquer la Loi sur l’accès dans l’office? \nQu’est-ce qu’un renseignement personnel ? \nQu’est-ce que la fonction de responsable de la protection des renseignements personnels ? \nQue doivent contenir les politiques et les pratiques en lien avec les renseignements personnels? \nQuelles sont les mesures à prendre avant de collecter un renseignement personnel ? \nQuel est le critère en matière de consentement lors de la collecte\, de l’utilisation ou de la communication d’un renseignement personnel ? \nComment faire l’archivage et l’inventaire des renseignements personnels ? \nComment évaluer les facteurs de risques relatifs à la vie privée ?            Quels sont les types d’incidents de confidentialité ? \nQuelles sont les obligations lorsqu’un incident de confidentialité survient ? \nDe plus\, la formation montrera des exemples pratiques de réponses à des demandes d’accès à l’information et fournira certaines règles de transmission d’informations à l’interne et à l’externe. \nPour vous inscrire\, veuillez cliquer ICI \nLe coût d’inscription est de 375 $ + taxes par personne\, celui-ci comprend la documentation.
URL:https://rohq.qc.ca/event/loi-25-acces-aux-documents-des-organismes-publics-et-sur-la-protection-des-renseignements-personnels/
LOCATION:En mode virtuel
CATEGORIES:Formation
END:VEVENT
BEGIN:VEVENT
DTSTART;TZID=America/Toronto:20240814T100000
DTEND;TZID=America/Toronto:20240814T120000
DTSTAMP:20260419T190014
CREATED:20240719T125714Z
LAST-MODIFIED:20241213T143704Z
UID:10000105-1723629600-1723636800@rohq.qc.ca
SUMMARY:Formation sur l'appel à projet ID2EM
DESCRIPTION:Lien pour participer à la formation: https://us02web.zoom.us/j/89730657491#success
URL:https://rohq.qc.ca/event/formation-sur-lappel-a-projet-id2em/
LOCATION:En mode virtuel
CATEGORIES:Formation
END:VEVENT
BEGIN:VEVENT
DTSTART;TZID=America/Toronto:20240619T100000
DTEND;TZID=America/Toronto:20240619T120000
DTSTAMP:20260419T190014
CREATED:20240610T131213Z
LAST-MODIFIED:20241213T143707Z
UID:10000104-1718791200-1718798400@rohq.qc.ca
SUMMARY:Webinaire - Participation des locataires à la gestion
DESCRIPTION:Cliquez ici pour vous inscrire
URL:https://rohq.qc.ca/event/webinaire-participation-des-locataires-a-la-gestion/
LOCATION:En mode virtuel
CATEGORIES:Formation
END:VEVENT
BEGIN:VEVENT
DTSTART;TZID=America/Toronto:20231101T090000
DTEND;TZID=America/Toronto:20231101T110000
DTSTAMP:20260419T190014
CREATED:20230829T184836Z
LAST-MODIFIED:20241213T143720Z
UID:10000071-1698829200-1698836400@rohq.qc.ca
SUMMARY:Préparation à la retraite CHANGEMENT: la formation se tiendra en ligne
DESCRIPTION:Formateur: Un spécialiste en formation financière de Manuvie \nEn ligne sur ZOOM \nPour plus d’informations: Cliquez ici \nPour vous inscrire: Cliquez ici
URL:https://rohq.qc.ca/event/preparation-a-la-retraite-longueuil/
LOCATION:En mode virtuel
CATEGORIES:Formation
END:VEVENT
BEGIN:VEVENT
DTSTART;TZID=America/Toronto:20231024T090000
DTEND;TZID=America/Toronto:20231024T110000
DTSTAMP:20260419T190014
CREATED:20230907T191132Z
LAST-MODIFIED:20241213T143721Z
UID:10000077-1698138000-1698145200@rohq.qc.ca
SUMMARY:Comment préparer un dossier pour le tribunal administratif du logement (TAL)
DESCRIPTION:Formateur : Marc-Étienne Lauzon-Joset\, conseiller principal aux affaires juridiques \nPour plus d’informations: Cliquez ici \nPour vous inscrire à la formation: Cliquez ici
URL:https://rohq.qc.ca/event/comment-preparer-un-dossier-pour-le-tribunal-administratif-du-logement-tal-3/
LOCATION:En mode virtuel
CATEGORIES:Formation
END:VEVENT
BEGIN:VEVENT
DTSTART;TZID=America/Toronto:20231017T090000
DTEND;TZID=America/Toronto:20231017T110000
DTSTAMP:20260419T190014
CREATED:20230829T184752Z
LAST-MODIFIED:20241213T143722Z
UID:10000070-1697533200-1697540400@rohq.qc.ca
SUMMARY:Préparation à la retraite CHANGEMENT: la formation se tiendra en ligne
DESCRIPTION:Formateur: Un spécialiste en formation financière de Manuvie \nEn ligne sur ZOOM \nPour plus d’informations: Cliquez ici \nPour vous inscrire: Cliquez ici
URL:https://rohq.qc.ca/event/preparation-a-la-retraite-quebec/
LOCATION:En mode virtuel
CATEGORIES:Formation
END:VEVENT
END:VCALENDAR