BEGIN:VCALENDAR
VERSION:2.0
PRODID:-//ROHQ - Regroupement des offices d&#039;habitation du Québec - ECPv6.15.16//NONSGML v1.0//EN
CALSCALE:GREGORIAN
METHOD:PUBLISH
X-WR-CALNAME:ROHQ - Regroupement des offices d&#039;habitation du Québec
X-ORIGINAL-URL:https://rohq.qc.ca
X-WR-CALDESC:Évènements pour ROHQ - Regroupement des offices d&#039;habitation du Québec
REFRESH-INTERVAL;VALUE=DURATION:PT1H
X-Robots-Tag:noindex
X-PUBLISHED-TTL:PT1H
BEGIN:VTIMEZONE
TZID:America/Toronto
BEGIN:DAYLIGHT
TZOFFSETFROM:-0500
TZOFFSETTO:-0400
TZNAME:EDT
DTSTART:20250309T070000
END:DAYLIGHT
BEGIN:STANDARD
TZOFFSETFROM:-0400
TZOFFSETTO:-0500
TZNAME:EST
DTSTART:20251102T060000
END:STANDARD
BEGIN:DAYLIGHT
TZOFFSETFROM:-0500
TZOFFSETTO:-0400
TZNAME:EDT
DTSTART:20260308T070000
END:DAYLIGHT
BEGIN:STANDARD
TZOFFSETFROM:-0400
TZOFFSETTO:-0500
TZNAME:EST
DTSTART:20261101T060000
END:STANDARD
BEGIN:DAYLIGHT
TZOFFSETFROM:-0500
TZOFFSETTO:-0400
TZNAME:EDT
DTSTART:20270314T070000
END:DAYLIGHT
BEGIN:STANDARD
TZOFFSETFROM:-0400
TZOFFSETTO:-0500
TZNAME:EST
DTSTART:20271107T060000
END:STANDARD
END:VTIMEZONE
BEGIN:VEVENT
DTSTART;TZID=America/Toronto:20260325T090000
DTEND;TZID=America/Toronto:20260325T120000
DTSTAMP:20260419T125643
CREATED:20251127T210528Z
LAST-MODIFIED:20260206T162649Z
UID:10000151-1774429200-1774440000@rohq.qc.ca
SUMMARY:Formation | Cautionnement dans l'industrie de la construction
DESCRIPTION:Comprendre les divers types de cautionnements et d’assurances dans  l’industrie. Cas concrets d’application de leur gestion et de l’application des cautionnements. \n 
URL:https://rohq.qc.ca/event/formation-cautionnement-dans-lindustrie-de-la-construction-2/
LOCATION:Virtuel
CATEGORIES:Formation
END:VEVENT
BEGIN:VEVENT
DTSTART;TZID=America/Toronto:20260325T090000
DTEND;TZID=America/Toronto:20260325T150000
DTSTAMP:20260419T125643
CREATED:20251003T225411Z
LAST-MODIFIED:20260209T190116Z
UID:10000139-1774429200-1774450800@rohq.qc.ca
SUMMARY:Formation | L’art de mobiliser les équipes – en gestion du changement et en délégation de tâches
DESCRIPTION:Atelier pratique avec étude de cas. Comment exercer un leadership mobilisateur par une communication efficace. \n 
URL:https://rohq.qc.ca/event/lart-de-la-communication-pour-mobiliser-les-equipes-rh-gestion-de-la-performance-gestion-du-changement-comment-deleguer/
LOCATION:Lévis Hôtel Quality Inn\, 5800\, rue des Arpents\, Lévis\, QC\, G6V 0B5\, Canada
CATEGORIES:Formation
END:VEVENT
END:VCALENDAR