BEGIN:VCALENDAR
VERSION:2.0
PRODID:-//ROHQ - Regroupement des offices d&#039;habitation du Québec - ECPv6.15.16//NONSGML v1.0//EN
CALSCALE:GREGORIAN
METHOD:PUBLISH
X-WR-CALNAME:ROHQ - Regroupement des offices d&#039;habitation du Québec
X-ORIGINAL-URL:https://rohq.qc.ca
X-WR-CALDESC:Évènements pour ROHQ - Regroupement des offices d&#039;habitation du Québec
REFRESH-INTERVAL;VALUE=DURATION:PT1H
X-Robots-Tag:noindex
X-PUBLISHED-TTL:PT1H
BEGIN:VTIMEZONE
TZID:America/Toronto
BEGIN:DAYLIGHT
TZOFFSETFROM:-0500
TZOFFSETTO:-0400
TZNAME:EDT
DTSTART:20240310T070000
END:DAYLIGHT
BEGIN:STANDARD
TZOFFSETFROM:-0400
TZOFFSETTO:-0500
TZNAME:EST
DTSTART:20241103T060000
END:STANDARD
BEGIN:DAYLIGHT
TZOFFSETFROM:-0500
TZOFFSETTO:-0400
TZNAME:EDT
DTSTART:20250309T070000
END:DAYLIGHT
BEGIN:STANDARD
TZOFFSETFROM:-0400
TZOFFSETTO:-0500
TZNAME:EST
DTSTART:20251102T060000
END:STANDARD
BEGIN:DAYLIGHT
TZOFFSETFROM:-0500
TZOFFSETTO:-0400
TZNAME:EDT
DTSTART:20260308T070000
END:DAYLIGHT
BEGIN:STANDARD
TZOFFSETFROM:-0400
TZOFFSETTO:-0500
TZNAME:EST
DTSTART:20261101T060000
END:STANDARD
END:VTIMEZONE
BEGIN:VEVENT
DTSTART;TZID=America/Toronto:20250506T080000
DTEND;TZID=America/Toronto:20250507T170000
DTSTAMP:20260421T201649
CREATED:20250129T183623Z
LAST-MODIFIED:20250326T183023Z
UID:10000116-1746518400-1746637200@rohq.qc.ca
SUMMARY:52e édition du congrès du ROHQ
DESCRIPTION:Il est temps de s’inscrire ! \nLa 52e édition du congrès du ROHQ se tiendra sous le thème L’avenir se construit maintenant ! Ce thème met en lumière l’importance d’agir ensemble pour transformer les défis en opportunités et bâtir des collectivités inclusives et prospères. \n \nDans un contexte d’optimisation du réseau\, la programmation du congrès s’articule autour d’enjeux d’actualité en fonction des intérêts et des responsabilités de chacun : administrateur.trice.s\, directeur.trice.s\, intervenant.te.s sociocommunautaires et les gestionnaires techniques.  \n \nHÉBERGEMENT AU CONGRÈS \nDès maintenant\, réserver vos chambres à l‘Hôtel DELTA de Québec. \nVeuillez prendre note que le tarif préférentiel d’une chambre pour les membres du ROHQ est de 229 $ plus les taxes par nuit. Les frais d’hébergement et de séjour sont assumés par chaque participant. La date limite pour réserver une chambre au tarif préférentiel est le 5 avril 2025. \nPour pouvoir bénéficier de ce tarif\, il est obligatoire de mentionner\, le nom du groupe (Regroupement des offices d’habitation du Québec) au moment de la réservation. Pour ce faire\, vous pouvez réserver via le lien pour le groupe du ROHQ en cliquant ICI ou veuillez communiquer par téléphone en appelant au 1-844-860-3756 ou encore au 418-647-1717.
URL:https://rohq.qc.ca/event/52e-edition-du-congres-du-rohq/
LOCATION:Hôtel Delta\, 690 Bd René-Lévesque E\,\, Québec\, Québec\, G1R 5A8\, Canada
CATEGORIES:Évènement
END:VEVENT
BEGIN:VEVENT
DTSTART;TZID=America/Toronto:20250506T133000
DTEND;TZID=America/Toronto:20250506T150000
DTSTAMP:20260421T201649
CREATED:20240606T153918Z
LAST-MODIFIED:20250203T140237Z
UID:10000099-1746538200-1746543600@rohq.qc.ca
SUMMARY:IA\, Intelligence artificielle et ses différentes applications
DESCRIPTION:Surveillez la programmation de la 52e édition du congrès du ROHQ \n  \n 
URL:https://rohq.qc.ca/event/ia-nouvelles-techniques-de-construction/
LOCATION:Présentiel
CATEGORIES:Formation
END:VEVENT
BEGIN:VEVENT
DTSTART;TZID=America/Toronto:20250507T083000
DTEND;TZID=America/Toronto:20250507T170000
DTSTAMP:20260421T201649
CREATED:20240606T154436Z
LAST-MODIFIED:20250203T140512Z
UID:10000101-1746606600-1746637200@rohq.qc.ca
SUMMARY:Formation sur les clientèles marginalisées / désorganisées / besoins particuliers
DESCRIPTION:Surveillez la programmation de la 52e édition du congrès du ROHQ
URL:https://rohq.qc.ca/event/service-a-la-clientele/
LOCATION:Présentiel
CATEGORIES:Formation
END:VEVENT
END:VCALENDAR