BEGIN:VCALENDAR
VERSION:2.0
PRODID:-//ROHQ - Regroupement des offices d&#039;habitation du Québec - ECPv6.15.16//NONSGML v1.0//EN
CALSCALE:GREGORIAN
METHOD:PUBLISH
X-ORIGINAL-URL:https://rohq.qc.ca
X-WR-CALDESC:Évènements pour ROHQ - Regroupement des offices d&#039;habitation du Québec
REFRESH-INTERVAL;VALUE=DURATION:PT1H
X-Robots-Tag:noindex
X-PUBLISHED-TTL:PT1H
BEGIN:VTIMEZONE
TZID:America/Toronto
BEGIN:DAYLIGHT
TZOFFSETFROM:-0500
TZOFFSETTO:-0400
TZNAME:EDT
DTSTART:20230312T070000
END:DAYLIGHT
BEGIN:STANDARD
TZOFFSETFROM:-0400
TZOFFSETTO:-0500
TZNAME:EST
DTSTART:20231105T060000
END:STANDARD
BEGIN:DAYLIGHT
TZOFFSETFROM:-0500
TZOFFSETTO:-0400
TZNAME:EDT
DTSTART:20240310T070000
END:DAYLIGHT
BEGIN:STANDARD
TZOFFSETFROM:-0400
TZOFFSETTO:-0500
TZNAME:EST
DTSTART:20241103T060000
END:STANDARD
BEGIN:DAYLIGHT
TZOFFSETFROM:-0500
TZOFFSETTO:-0400
TZNAME:EDT
DTSTART:20250309T070000
END:DAYLIGHT
BEGIN:STANDARD
TZOFFSETFROM:-0400
TZOFFSETTO:-0500
TZNAME:EST
DTSTART:20251102T060000
END:STANDARD
BEGIN:DAYLIGHT
TZOFFSETFROM:-0500
TZOFFSETTO:-0400
TZNAME:EDT
DTSTART:20260308T070000
END:DAYLIGHT
BEGIN:STANDARD
TZOFFSETFROM:-0400
TZOFFSETTO:-0500
TZNAME:EST
DTSTART:20261101T060000
END:STANDARD
END:VTIMEZONE
BEGIN:VEVENT
DTSTART;TZID=America/Toronto:20240601T080000
DTEND;TZID=America/Toronto:20250430T170000
DTSTAMP:20260419T170124
CREATED:20240606T151611Z
LAST-MODIFIED:20241213T143709Z
UID:10000095-1717228800-1746032400@rohq.qc.ca
SUMMARY:Gouvernance d’un OH: rôles et responsabilités du CA et de la direction
DESCRIPTION:Sur demande
URL:https://rohq.qc.ca/event/gouvernance-dun-oh-roles-et-responsabilites-du-ca-et-de-la-direction/
CATEGORIES:Formation
END:VEVENT
BEGIN:VEVENT
DTSTART;TZID=America/Toronto:20250312T093000
DTEND;TZID=America/Toronto:20250312T120000
DTSTAMP:20260419T170124
CREATED:20240319T122055Z
LAST-MODIFIED:20241213T143638Z
UID:10000084-1741771800-1741780800@rohq.qc.ca
SUMMARY:Réunion du conseil d'administration du ROHQ
DESCRIPTION:
URL:https://rohq.qc.ca/event/reunion-du-conseil-dadministration-du-rohq-14/
CATEGORIES:Évènement
END:VEVENT
BEGIN:VEVENT
DTSTART;TZID=America/Toronto:20250319T110000
DTEND;TZID=America/Toronto:20250319T123000
DTSTAMP:20260419T170124
CREATED:20250203T141859Z
LAST-MODIFIED:20250307T201400Z
UID:10000117-1742382000-1742387400@rohq.qc.ca
SUMMARY:Régime complémentaire de retraite des employés des offices municipaux d'habitation du Québec: formation pour les administrateurs du régime
DESCRIPTION:En réponse aux besoins d’information exprimés par le personnel responsable de la gestion du Régime de retraite dans les offices d’habitation\, le comité du RCREOMHQ a l’immense plaisir de vous inviter à participer à un webinaire le 19 mars 2025 de 11h00 à 12h30. \nLors de ce webinaire les participants en apprendront davantage sur les points suivants : \n\nLa gestion de l’adhésion d’un participant\nLa remise des cotisations\nLa terminaison au Régime d’un participant\nLe changement de numéro de l’employé (NAS)\nL’accès au site du promoteur\nLa gestion administrative pour les regroupements de offices d’habitation\nLe soutien Manuvie\n\nFormatrice: \nHelia Freire\, Directrice principale\, relations clients\, Manuvie \nFormat: Virtuel
URL:https://rohq.qc.ca/event/regime-complementaire-de-retraite-des-employes-des-offices-municipaux-dhabitation-du-quebec-formation-pour-les-administrateurs-du-regime/
LOCATION:En mode virtuel
CATEGORIES:Formation
END:VEVENT
BEGIN:VEVENT
DTSTART;TZID=America/Toronto:20250327T090000
DTEND;TZID=America/Toronto:20250327T110000
DTSTAMP:20260419T170124
CREATED:20250214T172047Z
LAST-MODIFIED:20250307T201928Z
UID:10000120-1743066000-1743073200@rohq.qc.ca
SUMMARY:Comment préparer un dossier au tribunal administratif du logement
DESCRIPTION:Le ROHQ organise une formation afin de répondre aux besoins exprimés par les membres et relatifs à l’application de bonnes pratiques lors de la préparation d’un dossier au Tribunal administratif du logement (TAL). \nCette formation répondra aux objectifs suivants : \n\nConnaître les principes de notification et les procédures;\nRédiger une demande et préparer le dossier en vue d’une audition;\nSavoir quels sont les documents à déposer au TAL;\nBien connaître les principaux formulaires du TAL;\nSavoir quelles sont les pièces au soutien de la demande;\nÊtre documenté sur les procédures reliées aux témoignages et aux citations à comparaître;\nÊtre informé sur les actions à prendre après un jugement.\n\nConférencier : Me Marc-Étienne Lauzon-Joset\, conseiller principal aux affaires juridiques du ROHQ
URL:https://rohq.qc.ca/event/comment-preparer-un-dossier-au-tribunal-administratif-du-logement/
LOCATION:En mode virtuel
CATEGORIES:Formation
END:VEVENT
END:VCALENDAR