BEGIN:VCALENDAR
VERSION:2.0
PRODID:-//ROHQ - Regroupement des offices d&#039;habitation du Québec - ECPv6.15.16//NONSGML v1.0//EN
CALSCALE:GREGORIAN
METHOD:PUBLISH
X-WR-CALNAME:ROHQ - Regroupement des offices d&#039;habitation du Québec
X-ORIGINAL-URL:https://rohq.qc.ca
X-WR-CALDESC:Évènements pour ROHQ - Regroupement des offices d&#039;habitation du Québec
REFRESH-INTERVAL;VALUE=DURATION:PT1H
X-Robots-Tag:noindex
X-PUBLISHED-TTL:PT1H
BEGIN:VTIMEZONE
TZID:America/Toronto
BEGIN:DAYLIGHT
TZOFFSETFROM:-0500
TZOFFSETTO:-0400
TZNAME:EDT
DTSTART:20240310T070000
END:DAYLIGHT
BEGIN:STANDARD
TZOFFSETFROM:-0400
TZOFFSETTO:-0500
TZNAME:EST
DTSTART:20241103T060000
END:STANDARD
BEGIN:DAYLIGHT
TZOFFSETFROM:-0500
TZOFFSETTO:-0400
TZNAME:EDT
DTSTART:20250309T070000
END:DAYLIGHT
BEGIN:STANDARD
TZOFFSETFROM:-0400
TZOFFSETTO:-0500
TZNAME:EST
DTSTART:20251102T060000
END:STANDARD
BEGIN:DAYLIGHT
TZOFFSETFROM:-0500
TZOFFSETTO:-0400
TZNAME:EDT
DTSTART:20260308T070000
END:DAYLIGHT
BEGIN:STANDARD
TZOFFSETFROM:-0400
TZOFFSETTO:-0500
TZNAME:EST
DTSTART:20261101T060000
END:STANDARD
END:VTIMEZONE
BEGIN:VEVENT
DTSTART;TZID=America/Toronto:20251105T090000
DTEND;TZID=America/Toronto:20251105T120000
DTSTAMP:20260421T141201
CREATED:20251010T135425Z
LAST-MODIFIED:20251010T172510Z
UID:10000146-1762333200-1762344000@rohq.qc.ca
SUMMARY:Formation | Bonnes pratiques en sélection-location - 1er bloc
DESCRIPTION:Une formation exclusive pour les nouveaux employés\, responsables de la sélection-location d’offices d’habitation \n1er bloc le 5 novembre de 9h à 12h: \n\nLe règlement sur l’attribution des logements à loyer modique\nDéfinition des termes propres à l’attribution (catégories de logements\, sous-catégories\, normes d’occupation …)\nLes règlements obligatoires et facultatifs\nLe processus d’attribution\, les 7 étapes à considérer\n\nFormatrice \n\nMme Brigitte Blais\, formatrice qui a œuvré dans le réseau des OMH pendant 38 ans\, dont 35 ans à l’OMH de Sherbrooke.\n\nHoraire \n\n1er Bloc : le 5 novembre 2025 de 9h à 12h\n2e Bloc : le 6 novembre 2025 de 9h à 12h\n\nPour qui ? \n\nLes nouveaux employés responsables de la sélection et de la location d’offices d’habitation\n\nBillets \nLe billet par participant est au coût de 300$ + taxes. pour les deux demi-journées.
URL:https://rohq.qc.ca/event/formation-bonnes-pratiques-en-selection-location-1er-bloc/
CATEGORIES:Formation
END:VEVENT
END:VCALENDAR