BEGIN:VCALENDAR
VERSION:2.0
PRODID:-//ROHQ - Regroupement des offices d&#039;habitation du Québec - ECPv6.15.16//NONSGML v1.0//EN
CALSCALE:GREGORIAN
METHOD:PUBLISH
X-ORIGINAL-URL:https://rohq.qc.ca
X-WR-CALDESC:Évènements pour ROHQ - Regroupement des offices d&#039;habitation du Québec
REFRESH-INTERVAL;VALUE=DURATION:PT1H
X-Robots-Tag:noindex
X-PUBLISHED-TTL:PT1H
BEGIN:VTIMEZONE
TZID:America/Toronto
BEGIN:DAYLIGHT
TZOFFSETFROM:-0500
TZOFFSETTO:-0400
TZNAME:EDT
DTSTART:20230312T070000
END:DAYLIGHT
BEGIN:STANDARD
TZOFFSETFROM:-0400
TZOFFSETTO:-0500
TZNAME:EST
DTSTART:20231105T060000
END:STANDARD
BEGIN:DAYLIGHT
TZOFFSETFROM:-0500
TZOFFSETTO:-0400
TZNAME:EDT
DTSTART:20240310T070000
END:DAYLIGHT
BEGIN:STANDARD
TZOFFSETFROM:-0400
TZOFFSETTO:-0500
TZNAME:EST
DTSTART:20241103T060000
END:STANDARD
BEGIN:DAYLIGHT
TZOFFSETFROM:-0500
TZOFFSETTO:-0400
TZNAME:EDT
DTSTART:20250309T070000
END:DAYLIGHT
BEGIN:STANDARD
TZOFFSETFROM:-0400
TZOFFSETTO:-0500
TZNAME:EST
DTSTART:20251102T060000
END:STANDARD
END:VTIMEZONE
BEGIN:VEVENT
DTSTART;VALUE=DATE:20240924
DTEND;VALUE=DATE:20240927
DTSTAMP:20260424T133407
CREATED:20240725T183431Z
LAST-MODIFIED:20241213T143702Z
UID:10000109-1727136000-1727395199@rohq.qc.ca
SUMMARY:Congrès HLM Union sociale pour l'habitat (USH) à Montpellier
DESCRIPTION:
URL:https://rohq.qc.ca/event/congres-hlm-union-sociale-pour-lhabitat-ush-a-montpellier/
CATEGORIES:Évènement
END:VEVENT
BEGIN:VEVENT
DTSTART;VALUE=DATE:20240926
DTEND;VALUE=DATE:20240928
DTSTAMP:20260424T133407
CREATED:20240725T183242Z
LAST-MODIFIED:20241213T143657Z
UID:10000108-1727308800-1727481599@rohq.qc.ca
SUMMARY:Congrès Fédération Québécoise des municipalités (FQM). Le ROHQ exposant au Salon Affaires municipales 2024
DESCRIPTION:
URL:https://rohq.qc.ca/event/congres-federation-quebecoise-des-municipalites-fqm-le-rohq-exposant-au-salon-affaires-municipales-2024/
CATEGORIES:Évènement
END:VEVENT
END:VCALENDAR